BEGIN:VCALENDAR
VERSION:2.0
PRODID:-//Diamond S. Auctions - ECPv6.15.18//NONSGML v1.0//EN
CALSCALE:GREGORIAN
METHOD:PUBLISH
X-WR-CALNAME:Diamond S. Auctions
X-ORIGINAL-URL:https://www.diamond-s-auction.com
X-WR-CALDESC:Events for Diamond S. Auctions
REFRESH-INTERVAL;VALUE=DURATION:PT1H
X-Robots-Tag:noindex
X-PUBLISHED-TTL:PT1H
BEGIN:VTIMEZONE
TZID:America/Chicago
BEGIN:DAYLIGHT
TZOFFSETFROM:-0600
TZOFFSETTO:-0500
TZNAME:CDT
DTSTART:20250309T080000
END:DAYLIGHT
BEGIN:STANDARD
TZOFFSETFROM:-0500
TZOFFSETTO:-0600
TZNAME:CST
DTSTART:20251102T070000
END:STANDARD
BEGIN:DAYLIGHT
TZOFFSETFROM:-0600
TZOFFSETTO:-0500
TZNAME:CDT
DTSTART:20260308T080000
END:DAYLIGHT
BEGIN:STANDARD
TZOFFSETFROM:-0500
TZOFFSETTO:-0600
TZNAME:CST
DTSTART:20261101T070000
END:STANDARD
BEGIN:DAYLIGHT
TZOFFSETFROM:-0600
TZOFFSETTO:-0500
TZNAME:CDT
DTSTART:20270314T080000
END:DAYLIGHT
BEGIN:STANDARD
TZOFFSETFROM:-0500
TZOFFSETTO:-0600
TZNAME:CST
DTSTART:20271107T070000
END:STANDARD
END:VTIMEZONE
BEGIN:VEVENT
DTSTART;TZID=America/Chicago:20260425T090000
DTEND;TZID=America/Chicago:20260425T180000
DTSTAMP:20260420T032146
CREATED:20260307T124644Z
LAST-MODIFIED:20260407T001425Z
UID:72562-1777107600-1777140000@www.diamond-s-auction.com
SUMMARY:31st Annual Farm & Ranch Equipment Consignment Auction
DESCRIPTION:Due to internet security features\, you must register directly from HiBid.com.  Click the registration icon above and follow the registration link.  Thanks for bidding and good luck!        \n\n        \n                        \n        \n                        \n                        \n                        \n                    \n\n    \n\n\n\n        \n        Come join us for a fantastic day of farm and cattle equipment\, and antique cars! There are shop items\, car parts\, Hotwheels\, post cards\, and much more Will run cataloged items live webcast plus a wide range of items on-site only. Join us on Hibid or in person.     \n\n        \n                        \n        \n                        \n                        \n                        \n                    \n\n    \n\n        \n                        \n        \n        \n 
URL:https://www.diamond-s-auction.com/event/31st-annual-farm-ranch-equipment-consignment-auction/
LOCATION:Diamond S Auction Yard – 6500 S. Scenic Ave. – Bolivar\, MO\, 6500 Scenic Ave\, Bolivar\, MO\, 65613\, United States
CATEGORIES:Upcoming
ATTACH;FMTTYPE=image/png:https://www.diamond-s-auction.com/wp-content/uploads/2026/03/Hero_Annual-Auction_2026-scaled.png
END:VEVENT
BEGIN:VEVENT
DTSTART;TZID=America/Chicago:20260509T090000
DTEND;TZID=America/Chicago:20260509T180000
DTSTAMP:20260420T032146
CREATED:20260406T174216Z
LAST-MODIFIED:20260406T180444Z
UID:73742-1778317200-1778349600@www.diamond-s-auction.com
SUMMARY:Ryan Farm Equipment & Vehicle Auction
DESCRIPTION:Due to internet security features\, you must register directly from HiBid.com.  Click the registration icon above and follow the registration link.  Thanks for bidding and good luck!        \n\n        \n                        \n        \n                        \n                        \n                        \n                    \n\n    \n\n\n\n        \n        Come join us for a fantastic day of farm and cattle equipment\, and antique cars! There are shop items\, car parts\, Hotwheels\, post cards\, and much more Will run cataloged items live webcast plus a wide range of items on-site only. Join us on Hibid or in person.     \n\n        \n                        \n        \n                        \n                        \n                        \n                    \n\n    \n\n        \n                        \n        \n        \n\n 
URL:https://www.diamond-s-auction.com/event/ryan-farm-equipment-vehicle-auction/
LOCATION:4357 W Farm Rd 44 Willard\, MO\, 4357 W Farm Rd 44\, Willard\, 65781\, United States
CATEGORIES:Upcoming
ATTACH;FMTTYPE=image/png:https://www.diamond-s-auction.com/wp-content/uploads/2026/04/A_rural_Missouri_farm_scene_at_Nano_Banana_2_93769-2048x1143-1.png
END:VEVENT
BEGIN:VEVENT
DTSTART;TZID=America/Chicago:20260514T180000
DTEND;TZID=America/Chicago:20260514T235900
DTSTAMP:20260420T032146
CREATED:20260307T141254Z
LAST-MODIFIED:20260402T200706Z
UID:72580-1778781600-1778803140@www.diamond-s-auction.com
SUMMARY:The Atkins Farm Auction
DESCRIPTION:Due to internet security features\, you must register directly from HiBid.com.  Click the registration icon above and follow the registration link.  Thanks for bidding and good luck!        \n\n        \n                        \n        \n                        \n                        \n                        \n                    \n\n    \n\n\n\n        \n        Come join us for a fantastic day of farm and cattle equipment\, and antique cars! There are shop items\, car parts\, Hotwheels\, post cards\, and much more Will run cataloged items live webcast plus a wide range of items on-site only. Join us on Hibid or in person.     \n\n        \n                        \n        \n                        \n                        \n                        \n                    \n\n    \n\n        \n                        \n        \n        \n  \n 
URL:https://www.diamond-s-auction.com/event/the-atkins-farm-auction/
LOCATION:Mills Center\, 650 Mills Dr\, Lebanon\, MO\, 65613\, United States
CATEGORIES:Upcoming
ATTACH;FMTTYPE=image/jpeg:https://www.diamond-s-auction.com/wp-content/uploads/2026/03/Keep_everything_the_exact_same_Nano_Banana_2_61043-scaled.jpg
END:VEVENT
END:VCALENDAR